BEGIN:VCALENDAR
VERSION:2.0
PRODID:-//BI-REX - ECPv6.3.7//NONSGML v1.0//EN
CALSCALE:GREGORIAN
METHOD:PUBLISH
X-WR-CALNAME:BI-REX
X-ORIGINAL-URL:https://bi-rex.it
X-WR-CALDESC:Events for BI-REX
REFRESH-INTERVAL;VALUE=DURATION:PT1H
X-Robots-Tag:noindex
X-PUBLISHED-TTL:PT1H
BEGIN:VTIMEZONE
TZID:Europe/Rome
BEGIN:DAYLIGHT
TZOFFSETFROM:+0100
TZOFFSETTO:+0200
TZNAME:CEST
DTSTART:20260329T010000
END:DAYLIGHT
BEGIN:STANDARD
TZOFFSETFROM:+0200
TZOFFSETTO:+0100
TZNAME:CET
DTSTART:20261025T010000
END:STANDARD
END:VTIMEZONE
BEGIN:VEVENT
DTSTART;TZID=Europe/Rome:20260515T090000
DTEND;TZID=Europe/Rome:20260515T130000
DTSTAMP:20260421T144159
CREATED:20260416T075827Z
LAST-MODIFIED:20260416T103628Z
UID:64302-1778835600-1778850000@bi-rex.it
SUMMARY:HOW TO DECIDE: L’IMPORTANZA DEI PROCESSI DATA - DRIVEN PER LE ORGANIZZAZIONI
DESCRIPTION:Venerdì 15 maggio\, dalle 15:00 alle 13:00\, avrà luogo “How to decide: l’importanza dei processi data – driven per le organizzazioni”\, l’evento finale dove verranno presentati gli aggiornamenti di DATHA\, progetto di ricerca promosso dalla Regione Emilia-Romagna prssso il Tecnopolo DAMA di Bologna\, in Via Stalingrado 84/3.  \nISCRIVITI ALL’EVENTOISCRIVITI ALL’EVENTOSCARICA LA BROCHUREPRESENTAZIONE E OBIETTIVI \nUna mattinata sull’innovazione industriale e l’importanza delle decisioni data-driven. Verrà presentato il progetto DATHA\, una piattaforma scalabile e flessibile per raccogliere\, preparare e analizzare dati da fonti diverse\, offrendo una visione integrata. Una soluzione adattabile a vari contesti\, per ottimizzare processi produttivi e aumentare la competitività aziendale. \nL’evento rappresenta un’importante occasione per approfondire il ruolo delle decisioni data-driven nelle organizzazioni\, grazie a interventi di esperti del settore\, presentazioni di progetti innovativi e testimonianze aziendale. \nAGENDA E PARTECIPAZIONE \nL’agenda prevede: \n\n9:00 – 9.30 Registrazione + welcome coffee;\n9.30 – 09.50 Saluti istituzionali (Clust-ER Innovate\, Ordine degli Ingegneri\, Datariver\, ART-ER);\n9.50 – 10.20 Presentazione del progetto Tecnopolo e IT4LIA – Mauro Penza\, Funzionario presso Regione Emilia-Romagna;\n10.20 – 11.10 Progetto Bandi Laboratori DATHA: come i dati possono influenzare le scelte e creare strategie più solide nelle organizzazioni\nIntervengono: Data River\, CIRI ICT UNIBO\, AIRI-Unimore\, BI- REX;\n11.10 – 11.30 Audience time: come usiamo i dati?;\n11.30 – 11.55 Il punto di vista delle aziende – Intervengono: Blacks\, Imola Informatica\, Quix;\n11.55 – 12.15 Claudia Miani – Consigliere – Referente Commissione Innovazione ed Industria – Ordine degli Ingegneri Bologna;\n12.15 Chiusura – Luca Foschini – Direttore CIRI ICT UNIBO 12.20- Light Lunch e Networking 13:00 – Visita al supercomputer Leonardo.\n\nLa visita a Leonardo prevede un massimo di 32 partecipanti su 2 turni (1° turno 13:00; 2° turno 13:20). I partecipanti saranno inseriti in ordine d’iscrizione all’evento e la partecipazione verrà comunicata la mattina dell’evento. \nRELATORI\n\nMauro Penza\, Funzionario presso Regione Emilia-Romagna;\nClaudia Miani – Consigliere – Referente Commissione Innovazione ed Industria;\nLuca Foschini – Direttore CIRI ICT UNIBO;\nLuca Magnotta – Responsabile Unità Operativa Data Integration DataRiver;\nAntonio Candido – Technical Project Manager BI-REX.\n\nCaricamento…
URL:https://bi-rex.it/event/how-to-decide-l-importanza-dei-processi-data-driven-per-le-organizzazioni/
LOCATION:Tecnopolo DAMA\, Via Stalingrado 84/2\, Bologna\, Emilia Romagna\, 40128\, Italy
CATEGORIES:2026
ATTACH;FMTTYPE=image/png:https://bi-rex.it/wp-content/uploads/2026/04/Copertina-eventi-45.png
END:VEVENT
END:VCALENDAR