BEGIN:VCALENDAR
VERSION:2.0
PRODID:-//BI-REX - ECPv6.3.7//NONSGML v1.0//EN
CALSCALE:GREGORIAN
METHOD:PUBLISH
X-ORIGINAL-URL:https://bi-rex.it
X-WR-CALDESC:Events for BI-REX
REFRESH-INTERVAL;VALUE=DURATION:PT1H
X-Robots-Tag:noindex
X-PUBLISHED-TTL:PT1H
BEGIN:VTIMEZONE
TZID:Europe/Rome
BEGIN:DAYLIGHT
TZOFFSETFROM:+0100
TZOFFSETTO:+0200
TZNAME:CEST
DTSTART:20260329T010000
END:DAYLIGHT
BEGIN:STANDARD
TZOFFSETFROM:+0200
TZOFFSETTO:+0100
TZNAME:CET
DTSTART:20261025T010000
END:STANDARD
END:VTIMEZONE
BEGIN:VEVENT
DTSTART;TZID=Europe/Rome:20260304T140000
DTEND;TZID=Europe/Rome:20260304T153000
DTSTAMP:20260421T132701
CREATED:20260120T102135Z
LAST-MODIFIED:20260225T145020Z
UID:60401-1772632800-1772638200@bi-rex.it
SUMMARY:MECSPE: PRESENTAZIONE PROGETTO "HYPERFLOW"
DESCRIPTION:Mercoledì 4 marzo\, dalle 14:00 alle 15:30\, avrà luogo a Bologna\, all’interno della Fiera Mecspe\, l’evento di presentazione del progetto HYPERFLOW\, in collaborazione con Hyperting\, BI-REX e UNIBO – Alma Mater Studiorum \nISCRIVITI ALL’EVENTOISCRIVITI ALL’EVENTOACQUISTA IL TUO BIGLIETTOPRESENTAZIONE E OBIETTIVI \nNegli ultimi anni abbiamo assistito a una rapida diffusione dell’intelligenza artificiale conversazionale\, che ha reso accessibile a tutti la capacità delle macchine di comprendere e dialogare. Tuttavia\, nel mondo industriale questo non è sufficiente: le aziende hanno bisogno di sistemi che non si limitino a rispondere alle domande\, ma che siano in grado di intervenire sui processi\, coordinare attività complesse e supportare decisioni operative in tempo reale. \nHyperflow nasce proprio con questo obiettivo: portare l’intelligenza artificiale dentro i processi industriali reali\, trasformandola in una vera infrastruttura operativa. Si tratta di una piattaforma per l’orchestrazione di agenti AI specializzati\, capaci di collaborare tra loro e integrarsi con i sistemi produttivi esistenti. L’architettura consente di coordinare flussi complessi\, gestire grandi volumi di dati e rendere l’automazione intelligente affidabile\, scalabile e sicura. \nIl progetto è sviluppato da Hyperting in collaborazione con l’Università di Bologna e BI-REX\, unendo competenze industriali e ricerca applicata. \nL’evento di presentazione si svolgerà mercoledì 4 marzo alle ore 14\, all’interno del cuore mostra della Fiera Mecspe (Arena Mecspe  c/o Centro Servizi). \nAGENDA E PARTECIPAZIONE \nL’agenda prevede: \n\nApertura lavori e Introduzione BI-REX\nPresentazione del progetto Hyperflow\nIntervento UNIBO sul progetto Hyperflow\nVerticalizzazioni Hyperflow\nAnalisi dei risultati\nConclusioni e Sessione Q&A\nChiusura lavori\n\nRelatori\n\nManlio Urbano\, Marketing & Communication Manager BI-REX\nAlessia Vannucchi\, Business Development Associate BI-REX\nElisa Alberghini\, Training Specialist BI-REX\nMarco Stigliano\, CEO Hyperting\nMarco Nalon\, CTO Hyperting\nPaolo Bellavista\, Professore ordinario Dipartimento di Informatica – Scienza e Ingegneria Università di Bologna\n\nCaricamento…
URL:https://bi-rex.it/event/presentazione-progetto-hyperflow/
LOCATION:BolognaFiere\, Viale Della Fiera 20\, Bologna\, 40127\, Italia
CATEGORIES:2026
ATTACH;FMTTYPE=image/png:https://bi-rex.it/wp-content/uploads/2026/01/Copertina-eventi-1-1-1.png
END:VEVENT
BEGIN:VEVENT
DTSTART;TZID=Europe/Rome:20260305T120000
DTEND;TZID=Europe/Rome:20260305T133000
DTSTAMP:20260421T132701
CREATED:20260210T140737Z
LAST-MODIFIED:20260211T110219Z
UID:61480-1772712000-1772717400@bi-rex.it
SUMMARY:MECSPE: BI-REX PRESENTA IL NUOVO CENTRO HPC IPAZIA
DESCRIPTION:Giovedì 5 marzo in occasione della Fiera MECSPE\, BI-REX presenterà IPAZIA: il nuovo centro HPC che rende accessibili alle imprese tecnologie avanzate di simulazione\, AI\, machine learning e analisi dei big data per casi d’uso industriali concreti. Lo speech dedicato si terrà dalle 12.00 alle 13.30 presso il cuore mostra. \nISCRIVITI ALL’EVENTOISCRIVITI ALL’EVENTOACQUISTA IL TUO BIGLIETTOPRESENTAZIONE E OBIETTIVI \nIn un contesto industriale sempre più guidato da dati\, simulazioni e intelligenza artificiale\, disporre di infrastrutture di calcolo avanzate non è più un opzione\, ma una leva strategica per innovare in modo sostenibile e competitivo. \nIPAZIA è il nuovo centro HPC disponibile nella Linea Pilota BI-REX\, che arricchisce l’offerta tecnologica dei Competence Center: si tratta di una soluzione progettata per supportare concretamente le imprese che vogliono sperimentare e adottare tecnologie HPC e AI\, riducendo rischi\, complessità e investimenti iniziali\, attraverso casi d’uso industriali reali. \nUn modello pay-per-use\, trasparente e senza vendor lock-in\, che garantisce prevedibilità dei costi\, sicurezza dei dati (residenti in Italia) e supporto tecnico specializzato. Un servizio di test before invest che permetterà alle aziende di adottare la tecnologia\, capirne i limiti e le potenzialità\, per poi permettere alle aziende di scalare nelle strutture della nostra filiera regionale/europea (DAMA\, AI FACTORY). \nL’evento sarà l’occasione per: \n\nPresentare la visione strategica di BI-REX sull’HPC per l’industria;\nApprofondire l’architettura tecnica del cluster IPAZIA;\nIllustrare la proposta commerciale e i pacchetti di servizio;\nParlare con i referenti per visitare il Centro HPC in sede\, con una sessione guidata direttamente sull’infrastruttura.\n\nL’evento di presentazione si svolgerà giovedì 5 marzo alle ore 12.00\, all’interno del cuore mostra della Fiera MECSPE (Arena MECSPE  c/o Centro Servizi). \nVIENI A TROVARCI!AGENDA E PARTECIPAZIONE \nL’agenda prevede: \n\n12:00 | Welcome & apertura lavori\n12:10 | IPAZIA: la soluzione HPC di BI-REX\n12:20 | Architettura tecnica del Centro HPC \n12:40 | L’offerta commerciale e il modello di servizio \n13:00 | Speech partner CINECA (TBD)\n13:15 | Conclusioni\n13:30 | Q&A \n\nRELATORI\nStefano Cattorini\, CEO BI-REX \nFrancesco Meoni\, CTO BI-REX \nLorenzo Patera\, Edge/Cloud Engineer BI-REX \nGiampaolo Amadori\, Senior Advisor \nCaricamento…
URL:https://bi-rex.it/event/mecspe-bi-rex-presenta-il-nuovo-centro-hpc-ipazia/
LOCATION:BolognaFiere\, Viale Della Fiera 20\, Bologna\, 40127\, Italia
CATEGORIES:2026
ATTACH;FMTTYPE=image/png:https://bi-rex.it/wp-content/uploads/2026/02/Copertina-eventi-30.png
END:VEVENT
BEGIN:VEVENT
DTSTART;TZID=Europe/Rome:20260306T111500
DTEND;TZID=Europe/Rome:20260306T121500
DTSTAMP:20260421T132701
CREATED:20260210T134822Z
LAST-MODIFIED:20260226T154544Z
UID:61507-1772795700-1772799300@bi-rex.it
SUMMARY:LE FUTURE SKILLS DELLA FORMAZIONE BI-REX: FROM TRAINING TO INNOVATION A MECSPE
DESCRIPTION:Venerdì 6 marzo dalle 11:15 alle 12:15\, avrà luogo presso la Fiera MECSPE\, un incontro organizzato da BI-REX\, che ha come scopo quello di analizzare competenze chiave per l’innovazione industriale. La tavola rotonda “Le future skills della formazione BI-REX: From Training to Innovation” sarà un momento utile per mettere a confronto il punto di vista di manager\, docenti e professionisti che ogni giorno lavorano sull’innovazione delle imprese \nISCRIVITI ALL’EVENTOISCRIVITI ALL’EVENTOACQUISTA IL TUO BIGLIETTOPRESENTAZIONE E OBIETTIVI \nIl mercato del lavoro sta vivendo una trasformazione profonda che richiede nuove competenze tecniche\, digitali e manageriali. Aziende e istituzioni si confrontano ogni giorno con un gap crescente tra ciò che il mercato chiede e ciò che il sistema è in grado di offrire. La tavola rotonda organizzata da protagonisti dell’ecosistema BI-REX mette a confronto manager e docenti per analizzare le competenze chiave per l’innovazione industriale e il ruolo di BI-REX come ecosistema capace di integrare formazione\, servizi e “know-how” a supporto della competitività delle imprese. \nDurante l’incontro si aprirà una discussione pratica sui cambiamenti più impattanti in atto nelle aziende: dai processi sempre più complessi alla digitalizzazione non uniforme\, fino alle resistenze culturali che spesso rallentano l’adozione di nuove tecnologie. I relatori analizzeranno le competenze oggi più difficili da reperire — tecniche\, manageriali e trasversali — come la capacità di governare i dati\, il problem solving\, il change management e l’execution delle strategie innovative.\nAttraverso casi concreti ed esperienze dirette\, verrà messo in luce il divario tra gli investimenti tecnologici dichiarati e la reale capacità di trasformarli in valore\, mostrando come alcune aziende siano riuscite a colmare questo gap grazie a competenze adeguate e a un approccio integrato tra formazione e servizi. In questo contesto\, BI-REX si propone come un ecosistema unico\, capace di unire sapere accademico\, ricerca applicata ed expertise aziendale\, offrendo alle imprese strumenti concreti per sviluppare le future skills che faranno davvero la differenza nei prossimi 3–5 anni. \nL’evento si svolgerà venerdì 6 marzo alle ore 11.15\, all’interno del cuore mostra della Fiera Mecspe (Arena Mecspe  c/o Centro Servizi).  \nPASSA A TROVARCI!AGENDA E PARTECIPAZIONE \nL’agenda prevede: \n\n11:15 | Apertura e contesto\, breve presentazione degli speaker\n11:20 | Il cambiamento più impattante oggi: formazione e tecnologie\n11:30 | Le competenze decisive per la competitività delle imprese\n11:40 | Strategia aziendale vs realtà operativa \n11:50 | Esperienze di successo\n12:10 | Uno sguardo al futuro – le skill di domani \n\nRELATORI\nIntroduce e modera la tavola rotonda: \nDenis Cazacu\, Training Design Specialist \nCon interventi di: \nDiego Cera\, Responsabile dello sviluppo innovazione internazionale\, Dinova \nCorrado Bortolussi\, Partner\, FAAS – Financial Accounting Advisory Services\, EY \nEmiliano Mucchi\, Professore Associato di Meccanica Applicata alle Macchine\, Università degli Studi di Ferrara \nValentina Matrà\, Training Manager\, BI-REX \nCaricamento…
URL:https://bi-rex.it/event/le-future-skills-della-formazione-bi-rex-from-training-to-innovation/
LOCATION:BolognaFiere\, Viale Della Fiera 20\, Bologna\, 40127\, Italia
CATEGORIES:2026
ATTACH;FMTTYPE=image/png:https://bi-rex.it/wp-content/uploads/2026/02/Copertina-eventi-19.png
END:VEVENT
BEGIN:VEVENT
DTSTART;TZID=Europe/Rome:20260317T140000
DTEND;TZID=Europe/Rome:20260317T170000
DTSTAMP:20260421T132701
CREATED:20260223T162958Z
LAST-MODIFIED:20260318T093953Z
UID:62109-1773756000-1773766800@bi-rex.it
SUMMARY:PRESENTAZIONE PROGETTO: "POLYTWIN"
DESCRIPTION:Martedì 17 marzo\, dalle 14:00 alle 17:00\, ha avuto luogo l’evento di presentazione del progetto PolyTwin in collaborazione con Radici Novacips Spa e SET Srl presso BI-REX Competence Center. \nRIVIVI L’EVENTORIVIVI L’EVENTOSCARICA LA BROCHUREPRESENTAZIONE E OBIETTIVI \nMartedì 17 marzo alle ore 14:00\, presso la sede di BI-REX\, è stato presentato il progetto POLYTWIN\, che si propone di innovare i sistemi di controllo e gestione dei reparti produttivi di compound di tecnopolimeri ad alte prestazioni. \nPolyTwin introduce un modello avanzato di Digital Twin applicato ai processi industriali\, valorizzando una sinergia evoluta tra esperienza umana e intelligenza artificiale. Il sistema agisce come un “co-pilota intelligente”\, offrendo una visione olistica del ciclo di vita del prodotto e supportando gli operatori nel prendere decisioni più rapide e informate. \nIl progetto nasce dalla necessità di affrontare la crescente complessità produttiva del settore\, superando approcci tradizionali reattivi a favore di una gestione digitale\, integrata e proattiva.  Attraverso l’analisi predittiva e la rilevazione delle anomalie di processo\, PolyTwin contribuisce ad aumentare il livello di consapevolezza complessiva e a porre le basi per un’evoluzione sostenibile e resiliente dei processi industriali. \nCollaborazione scientifica: Dipartimento delle scienze e tecnologie Informatiche\, Bioingegneria\, Robotica e Ingegneria dei Sistemi (DIBRIS) – UniGe \nSupporto tecnologico: VAR GROUP SPA \nAGENDA E PARTECIPAZIONE \nL’agenda prevede: \n\n14.00 → Arrivo e Registrazione partecipanti con welcome coffee\n14.30 → Benvenuto e apertura lavori: introduzioni e saluti istituzionali\nBI‑REX: il ruolo del Competence Center e l’ecosistema di innovazione\nRadici Novacips: l’impresa capofila e la visione di settore\nLa linea produttiva e la gestione dei dati nel contesto industriale\nXautomata: dall’esperienza industriale alle soluzioni per la manifattura intelligente\nIl progetto PolyTwin nel dettaglio: innovazione tecnologica e risultati\nTour Linea Pilota\n\nRELATORI\n\nBI-REX – Manlio Urbano (Marketing and Communication Manager)\nBI-REX – Federico Naidi (Business Innovation Specialist)\nBI-REX – Elisa Alberghini (Training Specialist) \nRadici Novacips – Danilo Micheletti (PM della capofila POLYTWIN)\nGruppo SET – Andrea Bina (Referente partner POLYTWIN)\nXautomata – Andrea Jacassi (Product Manager XAUTOMATA)\nXautomata – Stefano D’Amato (Lead Data Scitentist XAUTOMATA)\n\nCaricamento…
URL:https://bi-rex.it/event/presentazione-progetto-polytwin/
LOCATION:BI-REX\, Via Paolo Nanni Costa\, 20\, Bologna\, 40133\, Italia
CATEGORIES:2026
ATTACH;FMTTYPE=image/png:https://bi-rex.it/wp-content/uploads/2026/02/Copertina-eventi-13.png
END:VEVENT
BEGIN:VEVENT
DTSTART;TZID=Europe/Rome:20260318T150000
DTEND;TZID=Europe/Rome:20260318T180000
DTSTAMP:20260421T132701
CREATED:20260223T165734Z
LAST-MODIFIED:20260319T104151Z
UID:62120-1773846000-1773856800@bi-rex.it
SUMMARY:PRESENTAZIONE PROGETTO: "PLANT OPTIMA"
DESCRIPTION:Mercoledì 18 marzo\, dalle 15:00 alle 18:00\, ha avuto luogo l’evento di presentazione del progetto Plant Optima che prevede la progettazione e sviluppo di soluzioni AI per processi di trapiantatura e irrigazione nei vivai \nISCRIVITI ALL’EVENTOISCRIVITI ALL’EVENTOSCARICA LA BROCHUREPRESENTAZIONE E OBIETTIVI \nParte 1 – Sistema Robotico con Visione Integrata per Ottimizzazione e Reintegro della Trapiantatura – Il modulo di reintegro \nRiguarda lo sviluppo di un modulo robotico avanzato\, integrabile sulle macchine di trapiantatura di nuova produzione o installabile in retrofit su macchine già esistenti\, finalizzato all’automazione del processo di selezione e reintegro delle piantine. \nIl sistema combina: \n\nrobotica industriale\nsistemi di visione artificiale\,\nalgoritmi di intelligenza artificiale per l’analisi delle immagini\n\nL’obiettivo è raggiungere un livello di qualità negli impianti di trapianto fino al 100% riducendo gli sprechi\, eliminando attività manuali ripetitive e migliorando la produttività complessiva della linea. \nParte 2 – Sistema Intelligente di Irrigazione per Serre con Sensoristica Avanzata \nRiguarda lo sviluppo di una barra di irrigazione intelligente dotata di: \n\ntelecamera\nsistema di illuminazione\nunità di elaborazione dati EDGE basata su algoritmi AI\n\nIl sistema integra i dati provenienti da immagini per: \n\ncontare le piante presenti in serra\,\nfornire strumenti di analisi e previsione della resa produttiva\ngenerare alert per interventi tempestivi\,\n\nL’obiettivo è quello di ridurre le attività manuali (il conteggio delle piante in serra ad oggi viene fatto manualmente) e ottimizzare l’utilizzo delle risorse idriche grazie alle informazioni sulla resa produttiva\, diminuire l’impiego di prodotti chimici e migliorare la sostenibilità complessiva del processo produttivo in serra. \nNel loro insieme\, le due parti mirano a riposizionare l’azienda come fornitore di soluzioni ad alta complessità tecnologica nel settore del vivaismo\, integrando robotica\, visione artificiale\, big data e intelligenza artificiale all’interno del catalogo prodotti esistente. \nAGENDA E PARTECIPAZIONE \nL’agenda prevede: \n\n15:00  → Arrivo e Registrazione partecipanti con welcome coffee\n15:30  → Apertura lavori\nIntroduzione BI-REX;\nSaluti istituzionali\nPresentazione di Urbinati\nPresentazione del progetto PLANT-OPTIMA – Progettazione e sviluppo di soluzioni AI per processi di trapiantatura e irrigazione nei vivai\nPLANT OPTIMA parte 1: Il modulo di reintegro\nPLANT OPTIMA parte 2: Sistema di visione su barre di irrigazione\nAnalisi dei risultati\nChiusura lavori\nTour Linea Pilota\n\nRELATORI\n\nManlio Urbano\, Marketing and Communication Manager BI-REX\nRoberto Giudiceandrea\, Automation and Robotics Application Engineer BI-REX\nElisa Alberghini\, Training Specialist BI-REX\nGiulia Cristofori\, CEO Urbinati\nMarco Casadei\, Direttore Tecnico Urbinati\n\nCaricamento…
URL:https://bi-rex.it/event/presentazione-progetto-plant-optima/
LOCATION:BI-REX\, Via Paolo Nanni Costa\, 20\, Bologna\, 40133\, Italia
CATEGORIES:2026
ATTACH;FMTTYPE=image/png:https://bi-rex.it/wp-content/uploads/2026/02/Copertina-eventi-14.png
END:VEVENT
BEGIN:VEVENT
DTSTART;TZID=Europe/Rome:20260324T163000
DTEND;TZID=Europe/Rome:20260324T173000
DTSTAMP:20260421T132701
CREATED:20260209T155044Z
LAST-MODIFIED:20260326T090422Z
UID:61393-1774369800-1774373400@bi-rex.it
SUMMARY:PRESENTAZIONE PROGETTO: "QUARTOTAG"
DESCRIPTION:Martedì 24 marzo\, dalle 16:30 alle 17:30\, ha avuto luogo il webinar di presentazione del progetto Quartotag\, tecnologia che  introduce un sistema avanzato di temporal video tagging basato su IA\, ottimizzando la  produzione e trasmissione di contenuti televisivi e broadcasting. \nRIVIVI L’EVENTORIVIVI L’EVENTOSCARICA LA BROCHUREPRESENTAZIONE E OBIETTIVI \nLa cross-medialità richiede uno sforzo continuo ed ininterrotto da parte dei content creator professionali per la generazione di contributi video che possano essere adatti a più fattori di forma\, tipologie di distribuzione\, tempistiche di fruizione e differenti profili di pubblico target\, al fine di poter risultare vincenti e replicabili con effetto virale. Un operatore tecnologico come NEXTING – che ogni giorno aiuta i principali broadcaster che operano sul territorio Italiano ed Europeo nella produzione di contenuti video originali – riconosce il valore e l’opportunità della presenza trasversale tra media tradizionali e new media\, pur evidenziandone le difficoltà di processo ed i relativi costi di attuazione. Per questo motivo ha voluto impiegare le proprie risorse di R&D\, nell’ambito di una ampia collaborazione con BI-REX e con i suoi affiliati\, dando luce al progetto QuartoTag\, che ha lo scopo di automatizzare tramite l’uso di AI avanzata il processing dei segnali video\, la trascrizione e traduzione dell’audio in tempo reale e la form factor adaptation ottimizzata per i differenti canali di destinazione. QuartoTag rappresenta una nuova modalità di approccio alla produzione video automatizzata di indirizzo professionale. \nAGENDA E PARTECIPAZIONE \nL’evento si svolgerà online. L’agenda prevede: \n\n16:30 → Apertura lavori\nIntroduzione BI-REX\nPresentazione del progetto → Antonio Palmieri (CEO di Nexting)\nAnalisi dei risultati → Mario Vigliar (CTO di Youbiquo)\n Contributo video da parte di un pilot user del progetto (TBD)\nChiusura lavori\n\nGli iscritti riceveranno il link per assistere al webinar il giorno prima dell’evento. \nRELATORI\nManlio Urbano\, Marketing and Communication Manager BI-REX \nErica Rovida\, Business Development Associate BI-REX \nDenis Cazacu\, Training Design Specialist BI-REX \nAntonio Palmieri\, CEO di Nexting \nMario Vigliar\, CTO Youbiquo \nCaricamento…
URL:https://bi-rex.it/event/presentazione-progetto-quartotag/
LOCATION:Online
CATEGORIES:2026,Webinar
ATTACH;FMTTYPE=image/png:https://bi-rex.it/wp-content/uploads/2026/02/Copertina-eventi-12.png
END:VEVENT
BEGIN:VEVENT
DTSTART;TZID=Europe/Rome:20260325T150000
DTEND;TZID=Europe/Rome:20260325T180000
DTSTAMP:20260421T132701
CREATED:20260311T150057Z
LAST-MODIFIED:20260326T091050Z
UID:62994-1774450800-1774461600@bi-rex.it
SUMMARY:PRESENTAZIONE PROGETTO: "DENT"
DESCRIPTION:Mercoledì 25 marzo\, dalle 15:00 alle 18:00\, ha avuto luogo l’evento di presentazione del progetto DENT in collaborazione con Vision Dental\, Clinica Dentale Santa Teresa\, Laboratorio Dentale Santa Teresa e Digitaldentalschool. \nISCRIVITI ALL’EVENTOISCRIVITI ALL’EVENTOSCARICA LA BROCHUREPRESENTAZIONE E OBIETTIVI \nIl progetto DENT – Diagnostic ENhanced Techniques nasce con l’obiettivo di sviluppare soluzioni tecnologiche avanzate per migliorare la qualità della diagnostica e della pianificazione chirurgica in odontoiatria attraverso l’uso dell’intelligenza artificiale e delle tecnologie digitali. \nIl contesto di partenza è caratterizzato da alcuni limiti del settore odontoiatrico: \n\nDiagnosi  su immagini OPT e TAC esclusivamente basate sulla competenza professionale  del medico con rischio di errore umano;\nPresenza frequente di TAC di bassa qualità o non conformi\, che richiedono ripetizione degli esami;\nAssenza di software CAD adeguati per progettare dime chirurgiche per impianti zigomatici complessi.\n\nIl progetto mira quindi a sviluppare un sistema digitale integrato capace di: \n\nUtilizzare modelli di AI per analizzare immagini radiologiche odontoiatriche e supportare il medico nella diagnosi;\nIdentificare automaticamente patologie  cliniche;\nRiconoscere e scartare TAC non conformi o di qualità insufficiente;\nProgettare dime chirurgiche avanzate per impianti zigomatici con tecnica flapless;\nIntegrare queste soluzioni nei flussi operativi di cliniche e laboratori odontoiatrici.\n\nL’obiettivo industriale è migliorare l’efficienza operativa\, ridurre i costi legati a errori diagnostici o ripetizioni di esami e aumentare la produttività degli studi odontoiatrici grazie a strumenti digitali più avanzati. \nAGENDA E PARTECIPAZIONE \nL’agenda prevede: \n\n15:00 – Registrazione partecipanti e welcome coffee; \ndalle 15:30 – Introduzione BI-REX e saluti istituzionali; \nPresentazione delle aziende coinvolte nel progetto;   \nPresentazione del progetto DENT  e analisi dei risultati; \nTour Linea Pilota. \n\nRELATORI\nManlio Urbano\, Marketing and Communication Manager BI-REX \nFederico Naidi\, Business Innovation Specialist BI-REX \nDenis Cazacu\, Training Design Specialist BI-REX \nMonica Pezzi\, CEO Gruppo Vision  \nDaniele Ippoliti\, Team leader del progetto e Pianificazione progetti implantoprotesici Gruppo Vision \nCaricamento…
URL:https://bi-rex.it/event/presentazione-progetto-dent/
LOCATION:BI-REX\, Via Paolo Nanni Costa\, 20\, Bologna\, 40133\, Italia
CATEGORIES:2026
ATTACH;FMTTYPE=image/png:https://bi-rex.it/wp-content/uploads/2026/03/Copertina-eventi-15.png
END:VEVENT
END:VCALENDAR