BEGIN:VCALENDAR
VERSION:2.0
PRODID:-//BI-REX - ECPv6.3.7//NONSGML v1.0//EN
CALSCALE:GREGORIAN
METHOD:PUBLISH
X-WR-CALNAME:BI-REX
X-ORIGINAL-URL:https://bi-rex.it
X-WR-CALDESC:Events for BI-REX
REFRESH-INTERVAL;VALUE=DURATION:PT1H
X-Robots-Tag:noindex
X-PUBLISHED-TTL:PT1H
BEGIN:VTIMEZONE
TZID:Europe/Rome
BEGIN:DAYLIGHT
TZOFFSETFROM:+0100
TZOFFSETTO:+0200
TZNAME:CEST
DTSTART:20260329T010000
END:DAYLIGHT
BEGIN:STANDARD
TZOFFSETFROM:+0200
TZOFFSETTO:+0100
TZNAME:CET
DTSTART:20261025T010000
END:STANDARD
END:VTIMEZONE
BEGIN:VEVENT
DTSTART;TZID=Europe/Rome:20260317T140000
DTEND;TZID=Europe/Rome:20260317T170000
DTSTAMP:20260421T145402
CREATED:20260223T162958Z
LAST-MODIFIED:20260318T093953Z
UID:62109-1773756000-1773766800@bi-rex.it
SUMMARY:PRESENTAZIONE PROGETTO: "POLYTWIN"
DESCRIPTION:Martedì 17 marzo\, dalle 14:00 alle 17:00\, ha avuto luogo l’evento di presentazione del progetto PolyTwin in collaborazione con Radici Novacips Spa e SET Srl presso BI-REX Competence Center. \nRIVIVI L’EVENTORIVIVI L’EVENTOSCARICA LA BROCHUREPRESENTAZIONE E OBIETTIVI \nMartedì 17 marzo alle ore 14:00\, presso la sede di BI-REX\, è stato presentato il progetto POLYTWIN\, che si propone di innovare i sistemi di controllo e gestione dei reparti produttivi di compound di tecnopolimeri ad alte prestazioni. \nPolyTwin introduce un modello avanzato di Digital Twin applicato ai processi industriali\, valorizzando una sinergia evoluta tra esperienza umana e intelligenza artificiale. Il sistema agisce come un “co-pilota intelligente”\, offrendo una visione olistica del ciclo di vita del prodotto e supportando gli operatori nel prendere decisioni più rapide e informate. \nIl progetto nasce dalla necessità di affrontare la crescente complessità produttiva del settore\, superando approcci tradizionali reattivi a favore di una gestione digitale\, integrata e proattiva.  Attraverso l’analisi predittiva e la rilevazione delle anomalie di processo\, PolyTwin contribuisce ad aumentare il livello di consapevolezza complessiva e a porre le basi per un’evoluzione sostenibile e resiliente dei processi industriali. \nCollaborazione scientifica: Dipartimento delle scienze e tecnologie Informatiche\, Bioingegneria\, Robotica e Ingegneria dei Sistemi (DIBRIS) – UniGe \nSupporto tecnologico: VAR GROUP SPA \nAGENDA E PARTECIPAZIONE \nL’agenda prevede: \n\n14.00 → Arrivo e Registrazione partecipanti con welcome coffee\n14.30 → Benvenuto e apertura lavori: introduzioni e saluti istituzionali\nBI‑REX: il ruolo del Competence Center e l’ecosistema di innovazione\nRadici Novacips: l’impresa capofila e la visione di settore\nLa linea produttiva e la gestione dei dati nel contesto industriale\nXautomata: dall’esperienza industriale alle soluzioni per la manifattura intelligente\nIl progetto PolyTwin nel dettaglio: innovazione tecnologica e risultati\nTour Linea Pilota\n\nRELATORI\n\nBI-REX – Manlio Urbano (Marketing and Communication Manager)\nBI-REX – Federico Naidi (Business Innovation Specialist)\nBI-REX – Elisa Alberghini (Training Specialist) \nRadici Novacips – Danilo Micheletti (PM della capofila POLYTWIN)\nGruppo SET – Andrea Bina (Referente partner POLYTWIN)\nXautomata – Andrea Jacassi (Product Manager XAUTOMATA)\nXautomata – Stefano D’Amato (Lead Data Scitentist XAUTOMATA)\n\nCaricamento…
URL:https://bi-rex.it/event/presentazione-progetto-polytwin/
LOCATION:BI-REX\, Via Paolo Nanni Costa\, 20\, Bologna\, 40133\, Italia
CATEGORIES:2026
ATTACH;FMTTYPE=image/png:https://bi-rex.it/wp-content/uploads/2026/02/Copertina-eventi-13.png
END:VEVENT
END:VCALENDAR