BEGIN:VCALENDAR
VERSION:2.0
PRODID:-//BI-REX - ECPv6.3.7//NONSGML v1.0//EN
CALSCALE:GREGORIAN
METHOD:PUBLISH
X-ORIGINAL-URL:https://bi-rex.it
X-WR-CALDESC:Events for BI-REX
REFRESH-INTERVAL;VALUE=DURATION:PT1H
X-Robots-Tag:noindex
X-PUBLISHED-TTL:PT1H
BEGIN:VTIMEZONE
TZID:Europe/Rome
BEGIN:DAYLIGHT
TZOFFSETFROM:+0100
TZOFFSETTO:+0200
TZNAME:CEST
DTSTART:20260329T010000
END:DAYLIGHT
BEGIN:STANDARD
TZOFFSETFROM:+0200
TZOFFSETTO:+0100
TZNAME:CET
DTSTART:20261025T010000
END:STANDARD
END:VTIMEZONE
BEGIN:VEVENT
DTSTART;TZID=Europe/Rome:20260305T120000
DTEND;TZID=Europe/Rome:20260305T133000
DTSTAMP:20260421T145721
CREATED:20260210T140737Z
LAST-MODIFIED:20260211T110219Z
UID:61480-1772712000-1772717400@bi-rex.it
SUMMARY:MECSPE: BI-REX PRESENTA IL NUOVO CENTRO HPC IPAZIA
DESCRIPTION:Giovedì 5 marzo in occasione della Fiera MECSPE\, BI-REX presenterà IPAZIA: il nuovo centro HPC che rende accessibili alle imprese tecnologie avanzate di simulazione\, AI\, machine learning e analisi dei big data per casi d’uso industriali concreti. Lo speech dedicato si terrà dalle 12.00 alle 13.30 presso il cuore mostra. \nISCRIVITI ALL’EVENTOISCRIVITI ALL’EVENTOACQUISTA IL TUO BIGLIETTOPRESENTAZIONE E OBIETTIVI \nIn un contesto industriale sempre più guidato da dati\, simulazioni e intelligenza artificiale\, disporre di infrastrutture di calcolo avanzate non è più un opzione\, ma una leva strategica per innovare in modo sostenibile e competitivo. \nIPAZIA è il nuovo centro HPC disponibile nella Linea Pilota BI-REX\, che arricchisce l’offerta tecnologica dei Competence Center: si tratta di una soluzione progettata per supportare concretamente le imprese che vogliono sperimentare e adottare tecnologie HPC e AI\, riducendo rischi\, complessità e investimenti iniziali\, attraverso casi d’uso industriali reali. \nUn modello pay-per-use\, trasparente e senza vendor lock-in\, che garantisce prevedibilità dei costi\, sicurezza dei dati (residenti in Italia) e supporto tecnico specializzato. Un servizio di test before invest che permetterà alle aziende di adottare la tecnologia\, capirne i limiti e le potenzialità\, per poi permettere alle aziende di scalare nelle strutture della nostra filiera regionale/europea (DAMA\, AI FACTORY). \nL’evento sarà l’occasione per: \n\nPresentare la visione strategica di BI-REX sull’HPC per l’industria;\nApprofondire l’architettura tecnica del cluster IPAZIA;\nIllustrare la proposta commerciale e i pacchetti di servizio;\nParlare con i referenti per visitare il Centro HPC in sede\, con una sessione guidata direttamente sull’infrastruttura.\n\nL’evento di presentazione si svolgerà giovedì 5 marzo alle ore 12.00\, all’interno del cuore mostra della Fiera MECSPE (Arena MECSPE  c/o Centro Servizi). \nVIENI A TROVARCI!AGENDA E PARTECIPAZIONE \nL’agenda prevede: \n\n12:00 | Welcome & apertura lavori\n12:10 | IPAZIA: la soluzione HPC di BI-REX\n12:20 | Architettura tecnica del Centro HPC \n12:40 | L’offerta commerciale e il modello di servizio \n13:00 | Speech partner CINECA (TBD)\n13:15 | Conclusioni\n13:30 | Q&A \n\nRELATORI\nStefano Cattorini\, CEO BI-REX \nFrancesco Meoni\, CTO BI-REX \nLorenzo Patera\, Edge/Cloud Engineer BI-REX \nGiampaolo Amadori\, Senior Advisor \nCaricamento…
URL:https://bi-rex.it/event/mecspe-bi-rex-presenta-il-nuovo-centro-hpc-ipazia/
LOCATION:BolognaFiere\, Viale Della Fiera 20\, Bologna\, 40127\, Italia
CATEGORIES:2026
ATTACH;FMTTYPE=image/png:https://bi-rex.it/wp-content/uploads/2026/02/Copertina-eventi-30.png
END:VEVENT
END:VCALENDAR