BEGIN:VCALENDAR
VERSION:2.0
PRODID:-//BI-REX - ECPv6.3.7//NONSGML v1.0//EN
CALSCALE:GREGORIAN
METHOD:PUBLISH
X-WR-CALNAME:BI-REX
X-ORIGINAL-URL:https://bi-rex.it
X-WR-CALDESC:Events for BI-REX
REFRESH-INTERVAL;VALUE=DURATION:PT1H
X-Robots-Tag:noindex
X-PUBLISHED-TTL:PT1H
BEGIN:VTIMEZONE
TZID:Europe/Rome
BEGIN:DAYLIGHT
TZOFFSETFROM:+0100
TZOFFSETTO:+0200
TZNAME:CEST
DTSTART:20260329T010000
END:DAYLIGHT
BEGIN:STANDARD
TZOFFSETFROM:+0200
TZOFFSETTO:+0100
TZNAME:CET
DTSTART:20261025T010000
END:STANDARD
END:VTIMEZONE
BEGIN:VEVENT
DTSTART;TZID=Europe/Rome:20260211T173000
DTEND;TZID=Europe/Rome:20260211T190000
DTSTAMP:20260421T164506
CREATED:20260109T094217Z
LAST-MODIFIED:20260120T105509Z
UID:59879-1770831000-1770836400@bi-rex.it
SUMMARY:EVENTO: “OSSERVATORIO INDUSTRIA 4.0 PER LE IMPRESE”
DESCRIPTION:Torna per la quinta edizione l’evento di presentazione dei risultati dell’Osservatorio Industria 4.0\, iniziativa realizzata da BI-REX in collaborazione con Intesa Sanpaolo. \nISCRIVITI ALL’EVENTOISCRIVITI ALL’EVENTOSCARICA LA BROCHUREPRESENTAZIONE E OBIETTIVI \nBI-REX e Intesa Sanpaolo organizzano mercoledì 11 febbraio\, alle ore 17.30\, l’evento “Osservatorio Industria 4.0 – Soluzioni e Tecnologie per le imprese”: si presenterà l’evoluzione economico-reddituale di oltre 1.500 imprese manifatturiere e dei servizi in funzione dei loro investimenti in tecnologia. I dati che saranno illustrati sono stati raccolti attraverso un’indagine diretta\, condotta dal Research Department di Intesa Sanpaolo (Serena Fumagalli\, Sara Giusti e Giovanni Foresti). \nL’evento\, oltre a fornire un quadro aggiornato delle strategie di innovazione messe in campo dalle imprese\, presenta gli effetti dell’utilizzo di tecnologia sulla competitività aziendale. \nSi tratta del quinto evento legato all’Osservatorio Industria 4.0\, strumento realizzato dai due partner con l’obiettivo di monitorare\, accompagnare e orientare le PMI nel percorso verso Industria 4.0 attraverso studi\, ricerche\, indagini ad hoc e best practices che descrivono lo stato dell’arte dell’innovazione tecnologica e della trasformazione digitale delle imprese italiane\, anche attraverso i diversi servizi offerti da BI-REX e dai consorziati. \nAGENDA E PARTECIPAZIONE \nL’agenda prevede: \n\n17.00 – 17.30 → Arrivo e Registrazione partecipanti\n17.30 – 17.45 → Apertura lavori e presentazioni BI-REX e ISP\n17.45 – 18.15  → Presentazione Osservatorio Industria 4.0 + Focus sui risultati\n18.15 – 18.30  → Testimonianza aziendale di Sapiens Analytics\n18.30 – 19.00 → Tour Linea Pilota\n19.00 → Aperitivo di Networking\n\nRELATORI\nStefano Cattorini\, CEO BI-REX \nAlessandra Florio\, Direttore Regionale Emilia-Romagna e Marche Intesa Sanpaolo \nSerena Fumagalli\, Economista Intesa Sanpaolo \nSara Giusti\, Economista Intesa Sanpaolo \nGiovanni Foresti\, Economista Intesa Sanpaolo \nElisa Vecchi\, Business Development Specialist  Sapiens Analytics \nFrancesco Meoni\, CTO BI-REX \nLoading…
URL:https://bi-rex.it/event/evento-osservatorio-industria-4-0-per-le-imprese-3/
LOCATION:BI-REX\, Via Paolo Nanni Costa\, 20\, Bologna\, 40133\, Italia
CATEGORIES:2026
ATTACH;FMTTYPE=image/png:https://bi-rex.it/wp-content/uploads/2026/01/Osservatorio.png
END:VEVENT
END:VCALENDAR